BEGIN:VCALENDAR
METHOD:REQUEST
VERSION:2.0
BEGIN:VEVENT
URL:https://viewstub.com/SGV-Rays-vs-LP-Padres-2-20-21-Live-Stream
DTSTART:20210220T190000
DTEND:20210220T210000
SUMMARY;LANGUAGE=en-US:SGV Rays vs LP Padres 2/20/21 Live Stream
DESCRIPTION;LANGUAGE=en-US:To see more information about this event, please visit: https://viewstub.com/SGV-Rays-vs-LP-Padres-2-20-21-Live-Stream
LOCATION;LANGUAGE=en-US:virtual
END:VEVENT
END:VCALENDAR