BEGIN:VCALENDAR
METHOD:REQUEST
VERSION:2.0
BEGIN:VEVENT
URL:https://viewstub.com/Secret-Hours-Northcote
DTSTART:20210715T210000
DTEND:20210717T210000
SUMMARY;LANGUAGE=en-US:Northcote - Secret Hours (Virtual Concert Live at Alix Goolden Hall)
DESCRIPTION;LANGUAGE=en-US:To see more information about this event, please visit: https://viewstub.com/Secret-Hours-Northcote
LOCATION;LANGUAGE=en-US:virtual
END:VEVENT
END:VCALENDAR