BEGIN:VCALENDAR
METHOD:REQUEST
VERSION:2.0
BEGIN:VEVENT
URL:https://viewstub.com/Secret-Rule-Naked-acoustic-live-streaming
DTSTART:20210619T180000
DTEND:20210627T235500
SUMMARY;LANGUAGE=en-US:Secret Rule "Naked" acoustic live streaming
DESCRIPTION;LANGUAGE=en-US:To see more information about this event, please visit: https://viewstub.com/Secret-Rule-Naked-acoustic-live-streaming
LOCATION;LANGUAGE=en-US:virtual
END:VEVENT
END:VCALENDAR