BEGIN:VCALENDAR
METHOD:REQUEST
VERSION:2.0
BEGIN:VEVENT
URL:https://viewstub.com/Showdown-in-the-Downtown-Oct26
DTSTART:20241026T194000
DTEND:20241026T230000
SUMMARY;LANGUAGE=en-US:Showdown in the Downtown - Professional Boxing Fundraiser Saturday, October 26, 2024
DESCRIPTION;LANGUAGE=en-US:To see more information about this event, please visit: https://viewstub.com/Showdown-in-the-Downtown-Oct26
LOCATION;LANGUAGE=en-US:virtual
END:VEVENT
END:VCALENDAR