BEGIN:VCALENDAR
METHOD:REQUEST
VERSION:2.0
BEGIN:VEVENT
URL:https://viewstub.com/Speed-Networker
DTSTART:20211019T173000
DTEND:20211019T203000
SUMMARY;LANGUAGE=en-US:ILEA Orlando Spooky Speed Networker
DESCRIPTION;LANGUAGE=en-US:To see more information about this event, please visit: https://viewstub.com/Speed-Networker
LOCATION;LANGUAGE=en-US:inperson
END:VEVENT
END:VCALENDAR