BEGIN:VCALENDAR
METHOD:REQUEST
VERSION:2.0
BEGIN:VEVENT
URL:https://viewstub.com/Spotlight-on-Catering-and-Paradise-Cove
DTSTART:20201117T173000
DTEND:20201117T200000
SUMMARY;LANGUAGE=en-US:Spotlight on Catering & Paradise Cove
DESCRIPTION;LANGUAGE=en-US:To see more information about this event, please visit: https://viewstub.com/Spotlight-on-Catering-and-Paradise-Cove
LOCATION;LANGUAGE=en-US:hybrid
END:VEVENT
END:VCALENDAR