BEGIN:VCALENDAR
METHOD:REQUEST
VERSION:2.0
BEGIN:VEVENT
URL:https://viewstub.com/SpringTwistOff2025
DTSTART:20250606T183000
DTEND:20250606T220000
SUMMARY;LANGUAGE=en-US:Hanover Ag Spring Twist Off
DESCRIPTION;LANGUAGE=en-US:To see more information about this event, please visit: https://viewstub.com/SpringTwistOff2025
LOCATION;LANGUAGE=en-US:virtual
END:VEVENT
END:VCALENDAR