BEGIN:VCALENDAR
METHOD:REQUEST
VERSION:2.0
BEGIN:VEVENT
URL:https://viewstub.com/Squatter-Man-2022-Plasma-Petroglyphs-Tour
DTSTART:20220514T100000
DTEND:20220515T170000
SUMMARY;LANGUAGE=en-US:Squatter Man 2022, The Plasma Petroglyph Tour
DESCRIPTION;LANGUAGE=en-US:To see more information about this event, please visit: https://viewstub.com/Squatter-Man-2022-Plasma-Petroglyphs-Tour
LOCATION;LANGUAGE=en-US:inperson
END:VEVENT
END:VCALENDAR