BEGIN:VCALENDAR
METHOD:REQUEST
VERSION:2.0
BEGIN:VEVENT
URL:https://viewstub.com/Stars-of-ILEA
DTSTART:20210817T173000
DTEND:20210817T203000
SUMMARY;LANGUAGE=en-US:Stars of ILEA Game Show Challenge
DESCRIPTION;LANGUAGE=en-US:To see more information about this event, please visit: https://viewstub.com/Stars-of-ILEA
LOCATION;LANGUAGE=en-US:hybrid
END:VEVENT
END:VCALENDAR