BEGIN:VCALENDAR
METHOD:REQUEST
VERSION:2.0
BEGIN:VEVENT
URL:https://viewstub.com/Summer-Serenades-Four-Seasons
DTSTART:20240823T193000
DTEND:20240823T220000
SUMMARY;LANGUAGE=en-US:Summer Serenades - The Four Seasons
DESCRIPTION;LANGUAGE=en-US:To see more information about this event, please visit: https://viewstub.com/Summer-Serenades-Four-Seasons
LOCATION;LANGUAGE=en-US:inperson
END:VEVENT
END:VCALENDAR