BEGIN:VCALENDAR
METHOD:REQUEST
VERSION:2.0
BEGIN:VEVENT
URL:https://viewstub.com/Summer-Serenades-Music-of-the-Americas
DTSTART:20240726T193000
DTEND:20240726T220000
SUMMARY;LANGUAGE=en-US:Summer Serenades - Music of the Americas
DESCRIPTION;LANGUAGE=en-US:To see more information about this event, please visit: https://viewstub.com/Summer-Serenades-Music-of-the-Americas
LOCATION;LANGUAGE=en-US:inperson
END:VEVENT
END:VCALENDAR