BEGIN:VCALENDAR
METHOD:REQUEST
VERSION:2.0
BEGIN:VEVENT
URL:https://viewstub.com/Summer-Serenades-Romantic-Reverie
DTSTART:20240628T200000
DTEND:20240628T223000
SUMMARY;LANGUAGE=en-US:Summer Serenades - Romantic Reverie
DESCRIPTION;LANGUAGE=en-US:To see more information about this event, please visit: https://viewstub.com/Summer-Serenades-Romantic-Reverie
LOCATION;LANGUAGE=en-US:inperson
END:VEVENT
END:VCALENDAR