BEGIN:VCALENDAR
METHOD:REQUEST
VERSION:2.0
BEGIN:VEVENT
URL:https://viewstub.com/THE-VAULT
DTSTART:20210925T090000
DTEND:20211026T000000
SUMMARY;LANGUAGE=en-US:THE VAULT: Livestream of "World's Largest Ghost Hunt" LOCKED Investigations
DESCRIPTION;LANGUAGE=en-US:To see more information about this event, please visit: https://viewstub.com/THE-VAULT
LOCATION;LANGUAGE=en-US:virtual
END:VEVENT
END:VCALENDAR