BEGIN:VCALENDAR
METHOD:REQUEST
VERSION:2.0
BEGIN:VEVENT
URL:https://viewstub.com/TRIUMPHANT13
DTSTART:20220528T170000
DTEND:20220528T220000
SUMMARY;LANGUAGE=en-US:TRIUMPHANT 13 - San Diego, California REPLAY
DESCRIPTION;LANGUAGE=en-US:To see more information about this event, please visit: https://viewstub.com/TRIUMPHANT13
LOCATION;LANGUAGE=en-US:hybrid
END:VEVENT
END:VCALENDAR