BEGIN:VCALENDAR
METHOD:REQUEST
VERSION:2.0
BEGIN:VEVENT
URL:https://viewstub.com/TRIUMPHANT14
DTSTART:20221022T170000
DTEND:20221022T200000
SUMMARY;LANGUAGE=en-US:TRIUMPHANT 14 - Rosarito Beach, Mexico
DESCRIPTION;LANGUAGE=en-US:To see more information about this event, please visit: https://viewstub.com/TRIUMPHANT14
LOCATION;LANGUAGE=en-US:virtual
END:VEVENT
END:VCALENDAR