BEGIN:VCALENDAR
METHOD:REQUEST
VERSION:2.0
BEGIN:VEVENT
URL:https://viewstub.com/TRIUMPHANT15
DTSTART:20230414T200000
DTEND:20230414T233000
SUMMARY;LANGUAGE=en-US:T15 PPV REPLAY - Tulum, Mexico (Cancun)
DESCRIPTION;LANGUAGE=en-US:To see more information about this event, please visit: https://viewstub.com/TRIUMPHANT15
LOCATION;LANGUAGE=en-US:virtual
END:VEVENT
END:VCALENDAR