BEGIN:VCALENDAR
METHOD:REQUEST
VERSION:2.0
BEGIN:VEVENT
URL:https://viewstub.com/Tap-into-Networking
DTSTART:20220517T120000
DTEND:20220517T140000
SUMMARY;LANGUAGE=en-US:Tap into Networking
DESCRIPTION;LANGUAGE=en-US:To see more information about this event, please visit: https://viewstub.com/Tap-into-Networking
LOCATION;LANGUAGE=en-US:inperson
END:VEVENT
END:VCALENDAR