BEGIN:VCALENDAR
METHOD:REQUEST
VERSION:2.0
BEGIN:VEVENT
URL:https://viewstub.com/Three-Lions-Promotions-Presents-XVIII
DTSTART:20220827T190000
DTEND:20220827T235900
SUMMARY;LANGUAGE=en-US:Three Lions Promotions Presents: XVIII
DESCRIPTION;LANGUAGE=en-US:To see more information about this event, please visit: https://viewstub.com/Three-Lions-Promotions-Presents-XVIII
LOCATION;LANGUAGE=en-US:hybrid
END:VEVENT
END:VCALENDAR