BEGIN:VCALENDAR
METHOD:REQUEST
VERSION:2.0
BEGIN:VEVENT
URL:https://viewstub.com/UNITED-WE-STAND
DTSTART:20260327T200000
DTEND:20260328T020000
SUMMARY;LANGUAGE=en-US:UNITED WE STAND
DESCRIPTION;LANGUAGE=en-US:To see more information about this event, please visit: https://viewstub.com/UNITED-WE-STAND
LOCATION;LANGUAGE=en-US:virtual
END:VEVENT
END:VCALENDAR