BEGIN:VCALENDAR
METHOD:REQUEST
VERSION:2.0
BEGIN:VEVENT
URL:https://viewstub.com/VAB2021
DTSTART:20210111T000000
DTEND:20210125T000000
SUMMARY;LANGUAGE=en-US:Voyages Across Borders - a virtual film festival (French-Florida Research Institute at UF)
DESCRIPTION;LANGUAGE=en-US:To see more information about this event, please visit: https://viewstub.com/VAB2021
LOCATION;LANGUAGE=en-US:virtual
END:VEVENT
END:VCALENDAR