BEGIN:VCALENDAR
METHOD:REQUEST
VERSION:2.0
BEGIN:VEVENT
URL:https://viewstub.com/West-Coast-Yankees-vs-
DTSTART:20210211T171500
DTEND:20210211T193000
SUMMARY;LANGUAGE=en-US:West Coast Yankees vs La Verne Elite 2/11/21 Live Stream
DESCRIPTION;LANGUAGE=en-US:To see more information about this event, please visit: https://viewstub.com/West-Coast-Yankees-vs-
LOCATION;LANGUAGE=en-US:virtual
END:VEVENT
END:VCALENDAR