BEGIN:VCALENDAR
METHOD:REQUEST
VERSION:2.0
BEGIN:VEVENT
URL:https://viewstub.com/West-Coast-Yankees-vs--423147475
DTSTART:20210211T201500
DTEND:20210211T220000
SUMMARY;LANGUAGE=en-US:La Palma Padres vs OC Lightning 2/11/21 Live Stream
DESCRIPTION;LANGUAGE=en-US:To see more information about this event, please visit: https://viewstub.com/West-Coast-Yankees-vs--423147475
LOCATION;LANGUAGE=en-US:virtual
END:VEVENT
END:VCALENDAR