BEGIN:VCALENDAR
METHOD:REQUEST
VERSION:2.0
BEGIN:VEVENT
URL:https://viewstub.com/West-Coast-Yankees-vs-CBA-Beavers-Live-Stream-2-23-21-1064024983
DTSTART:20210223T170000
DTEND:20210223T191500
SUMMARY;LANGUAGE=en-US:West Coast Yankees vs CBA Beavers 2/23/21 Live Stream
DESCRIPTION;LANGUAGE=en-US:To see more information about this event, please visit: https://viewstub.com/West-Coast-Yankees-vs-CBA-Beavers-Live-Stream-2-23-21-1064024983
LOCATION;LANGUAGE=en-US:virtual
END:VEVENT
END:VCALENDAR