BEGIN:VCALENDAR
METHOD:REQUEST
VERSION:2.0
BEGIN:VEVENT
URL:https://viewstub.com/West-OC-vs-Dirtbags
DTSTART:20210210T143000
DTEND:20210210T163000
SUMMARY;LANGUAGE=en-US:West OC vs Dirtbags 2/10/21 Live Stream
DESCRIPTION;LANGUAGE=en-US:To see more information about this event, please visit: https://viewstub.com/West-OC-vs-Dirtbags
LOCATION;LANGUAGE=en-US:virtual
END:VEVENT
END:VCALENDAR