BEGIN:VCALENDAR
METHOD:REQUEST
VERSION:2.0
BEGIN:VEVENT
URL:https://viewstub.com/West-OC-vs-Dirtbags-3-3-21-Live-Stream
DTSTART:20210303T142500
DTEND:20210303T161500
SUMMARY;LANGUAGE=en-US:West OC vs Dirtbags 3/3/21 Live Stream
DESCRIPTION;LANGUAGE=en-US:To see more information about this event, please visit: https://viewstub.com/West-OC-vs-Dirtbags-3-3-21-Live-Stream
LOCATION;LANGUAGE=en-US:virtual
END:VEVENT
END:VCALENDAR