BEGIN:VCALENDAR
METHOD:REQUEST
VERSION:2.0
BEGIN:VEVENT
URL:https://viewstub.com/West-OC-vs-Highland-Hawks-21521-Live-Stream
DTSTART:20210215T172000
DTEND:20210215T190000
SUMMARY;LANGUAGE=en-US:West OC vs Highland Hawks 2/15/21 Live Stream
DESCRIPTION;LANGUAGE=en-US:To see more information about this event, please visit: https://viewstub.com/West-OC-vs-Highland-Hawks-21521-Live-Stream
LOCATION;LANGUAGE=en-US:virtual
END:VEVENT
END:VCALENDAR