BEGIN:VCALENDAR
METHOD:REQUEST
VERSION:2.0
BEGIN:VEVENT
URL:https://viewstub.com/Winterreise
DTSTART:20201106T193000
DTEND:20201106T203000
SUMMARY;LANGUAGE=en-US:Winterreise - Friday, Nov 6
DESCRIPTION;LANGUAGE=en-US:To see more information about this event, please visit: https://viewstub.com/Winterreise
LOCATION;LANGUAGE=en-US:hybrid
END:VEVENT
END:VCALENDAR