BEGIN:VCALENDAR
METHOD:REQUEST
VERSION:2.0
BEGIN:VEVENT
URL:https://viewstub.com/brandonmcphee
DTSTART:20210415T195800
DTEND:20210429T120000
SUMMARY;LANGUAGE=en-US:Brandon Mcphee Trio Concert
DESCRIPTION;LANGUAGE=en-US:To see more information about this event, please visit: https://viewstub.com/brandonmcphee
LOCATION;LANGUAGE=en-US:virtual
END:VEVENT
END:VCALENDAR