BEGIN:VCALENDAR
METHOD:REQUEST
VERSION:2.0
BEGIN:VEVENT
URL:https://viewstub.com/brandonmcpheestpatricksday
DTSTART:20210317T195800
DTEND:20210331T120000
SUMMARY;LANGUAGE=en-US:Brandon Mcphee St Patrick's Day Concert
DESCRIPTION;LANGUAGE=en-US:To see more information about this event, please visit: https://viewstub.com/brandonmcpheestpatricksday
LOCATION;LANGUAGE=en-US:virtual
END:VEVENT
END:VCALENDAR