BEGIN:VCALENDAR
METHOD:REQUEST
VERSION:2.0
BEGIN:VEVENT
URL:https://viewstub.com/event-industry-holiday-party
DTSTART:20211207T180000
DTEND:20211207T210000
SUMMARY;LANGUAGE=en-US:Industry Holiday Party
DESCRIPTION;LANGUAGE=en-US:To see more information about this event, please visit: https://viewstub.com/event-industry-holiday-party
LOCATION;LANGUAGE=en-US:inperson
END:VEVENT
END:VCALENDAR