BEGIN:VCALENDAR
METHOD:REQUEST
VERSION:2.0
BEGIN:VEVENT
URL:https://viewstub.com/jump
DTSTART:20230310T190000
DTEND:20230310T220000
SUMMARY;LANGUAGE=en-US:"Jump"  Van Halen Tribute with opening act Classic Rock Experience
DESCRIPTION;LANGUAGE=en-US:To see more information about this event, please visit: https://viewstub.com/jump
LOCATION;LANGUAGE=en-US:inperson
END:VEVENT
END:VCALENDAR