BEGIN:VCALENDAR
METHOD:REQUEST
VERSION:2.0
BEGIN:VEVENT
URL:https://viewstub.com/nashvillenightinorlando27
DTSTART:20231014T150000
DTEND:20231014T180000
SUMMARY;LANGUAGE=en-US:Nashville Night In Orlando w/ John Byron and Ben Johnson (4 PM SHOW)
DESCRIPTION;LANGUAGE=en-US:To see more information about this event, please visit: https://viewstub.com/nashvillenightinorlando27
LOCATION;LANGUAGE=en-US:inperson
END:VEVENT
END:VCALENDAR