BEGIN:VCALENDAR
METHOD:REQUEST
VERSION:2.0
BEGIN:VEVENT
URL:https://viewstub.com/nashvillenightinorlando28
DTSTART:20231110T183000
DTEND:20231110T230000
SUMMARY;LANGUAGE=en-US:Nashville Night In Orlando w/ Jordan Schmidt and Andy Albert
DESCRIPTION;LANGUAGE=en-US:To see more information about this event, please visit: https://viewstub.com/nashvillenightinorlando28
LOCATION;LANGUAGE=en-US:inperson
END:VEVENT
END:VCALENDAR