BEGIN:VCALENDAR
METHOD:REQUEST
VERSION:2.0
BEGIN:VEVENT
URL:https://viewstub.com/shop-adderall-online-discreet-and-affordable-options
DTSTART:20240808T120000
DTEND:20250321T120000
SUMMARY;LANGUAGE=en-US:Shop Adderall Online  Discreet & Affordable Options
DESCRIPTION;LANGUAGE=en-US:To see more information about this event, please visit: https://viewstub.com/shop-adderall-online-discreet-and-affordable-options
LOCATION;LANGUAGE=en-US:https://viewstub.com/shop-adderall-online-discreet-and-affordable-options
END:VEVENT
END:VCALENDAR