BEGIN:VCALENDAR
METHOD:REQUEST
VERSION:2.0
BEGIN:VEVENT
URL:https://viewstub.com/timanderic
DTSTART:20220102T180000
DTEND:20220102T220000
SUMMARY;LANGUAGE=en-US:Tim and Eric Brand Ambassadors Watch Along
DESCRIPTION;LANGUAGE=en-US:To see more information about this event, please visit: https://viewstub.com/timanderic
LOCATION;LANGUAGE=en-US:virtual
END:VEVENT
END:VCALENDAR